BEGIN:VCALENDAR

VERSION:2.0

PRODID:-//hacksw/handcal//NONSGML v1.0//EN

BEGIN:VEVENT

UID:c636ae2eacd38b9abd016d3cfa3c4975

DTSTAMP:20260424T173714Z

DTSTART:20260427T164500

DTEND:20260427T170000

SUMMARY:1P8295 - 34 William Avenue, Warilla NSW 2528

LOCATION:34 William Avenue, Warilla NSW 2528

END:VEVENT

END:VCALENDAR