BEGIN:VCALENDAR

VERSION:2.0

PRODID:-//hacksw/handcal//NONSGML v1.0//EN

BEGIN:VEVENT

UID:5b47b789d1d315046702290fdbc5f98a

DTSTAMP:20260422T121216Z

DTSTART:20260426T100000

DTEND:20260426T103000

SUMMARY:1P8079 - 133 The Esplanade, Oak Flats NSW 2529

LOCATION:133 The Esplanade, Oak Flats NSW 2529

END:VEVENT

END:VCALENDAR