BEGIN:VCALENDAR

VERSION:2.0

PRODID:-//hacksw/handcal//NONSGML v1.0//EN

BEGIN:VEVENT

UID:cafa65afe41b1b274d2370b6fe724032

DTSTAMP:20260422T121005Z

DTSTART:20260423T170000

DTEND:20260423T173000

SUMMARY:1P8190 - 301 Flagstaff Road, Berkeley NSW 2506

LOCATION:301 Flagstaff Road, Berkeley NSW 2506

END:VEVENT

END:VCALENDAR