BEGIN:VCALENDAR

VERSION:2.0

PRODID:-//hacksw/handcal//NONSGML v1.0//EN

BEGIN:VEVENT

UID:214e6731c28e8b98e346070894ab8d78

DTSTAMP:20260422T121215Z

DTSTART:20260423T163000

DTEND:20260423T170000

SUMMARY:1P8275 - 4/290 Shellharbour Road, Barrack Heights NSW 2528

LOCATION:4/290 Shellharbour Road, Barrack Heights NSW 2528

END:VEVENT

END:VCALENDAR