BEGIN:VCALENDAR

VERSION:2.0

PRODID:-//hacksw/handcal//NONSGML v1.0//EN

BEGIN:VEVENT

UID:99ed2443cd0c22b0488fd02ce825c05e

DTSTAMP:20260422T120828Z

DTSTART:20260423T180000

DTEND:20260423T183000

SUMMARY:1P8264 - 3 Stud Close, Calderwood NSW 2527

LOCATION:3 Stud Close, Calderwood NSW 2527

END:VEVENT

END:VCALENDAR