BEGIN:VCALENDAR

VERSION:2.0

PRODID:-//hacksw/handcal//NONSGML v1.0//EN

BEGIN:VEVENT

UID:8a859b84d268af8b701f7da3b3901b96

DTSTAMP:20260422T121215Z

DTSTART:20260423T170000

DTEND:20260423T173000

SUMMARY:1P8280 - 66 Robertson Street, Port Kembla NSW 2505

LOCATION:66 Robertson Street, Port Kembla NSW 2505

END:VEVENT

END:VCALENDAR