BEGIN:VCALENDAR

VERSION:2.0

PRODID:-//hacksw/handcal//NONSGML v1.0//EN

BEGIN:VEVENT

UID:df4ef041941756e357d195504211eea9

DTSTAMP:20260422T120828Z

DTSTART:20260423T170000

DTEND:20260423T173000

SUMMARY:1P8267 - 11 Scanlon Street, Calderwood NSW 2527

LOCATION:11 Scanlon Street, Calderwood NSW 2527

END:VEVENT

END:VCALENDAR