BEGIN:VCALENDAR

VERSION:2.0

PRODID:-//hacksw/handcal//NONSGML v1.0//EN

BEGIN:VEVENT

UID:46c219aac5a307a296bcd4edf977f166

DTSTAMP:20260422T121314Z

DTSTART:20260423T170000

DTEND:20260423T173000

SUMMARY:1P8260 - 79 King Street, Warilla NSW 2528

LOCATION:79 King Street, Warilla NSW 2528

END:VEVENT

END:VCALENDAR