BEGIN:VCALENDAR

VERSION:2.0

PRODID:-//hacksw/handcal//NONSGML v1.0//EN

BEGIN:VEVENT

UID:4e420e952d2eeff988e2a08f48d1b3ad

DTSTAMP:20260422T120955Z

DTSTART:20260423T184500

DTEND:20260423T191500

SUMMARY:1P8234 - 11 Magpie Avenue, Calderwood NSW 2527

LOCATION:11 Magpie Avenue, Calderwood NSW 2527

END:VEVENT

END:VCALENDAR