BEGIN:VCALENDAR

VERSION:2.0

PRODID:-//hacksw/handcal//NONSGML v1.0//EN

BEGIN:VEVENT

UID:a32413e7710b5ce02ebb3f2dfd5562bb

DTSTAMP:20260422T121021Z

DTSTART:20260422T181500

DTEND:20260422T184500

SUMMARY:1P8285 - 40 Bottlebrush Drive, Calderwood NSW 2527

LOCATION:40 Bottlebrush Drive, Calderwood NSW 2527

END:VEVENT

END:VCALENDAR