BEGIN:VCALENDAR

VERSION:2.0

PRODID:-//hacksw/handcal//NONSGML v1.0//EN

BEGIN:VEVENT

UID:bf8ef570f5171d0a357da768a0470584

DTSTAMP:20260422T121401Z

DTSTART:20260422T170000

DTEND:20260422T174500

SUMMARY:1P8282 - 2/4 Tuggerah Circuit, Flinders NSW 2529

LOCATION:2/4 Tuggerah Circuit, Flinders NSW 2529

END:VEVENT

END:VCALENDAR