BEGIN:VCALENDAR

VERSION:2.0

PRODID:-//hacksw/handcal//NONSGML v1.0//EN

BEGIN:VEVENT

UID:ba6511002ef09c93cd97d7c7d90bce6f

DTSTAMP:20260422T121713Z

DTSTART:20260422T190000

DTEND:20260422T193000

SUMMARY:1P8261 - 10 Butterfactory Drive, Calderwood NSW 2527

LOCATION:10 Butterfactory Drive, Calderwood NSW 2527

END:VEVENT

END:VCALENDAR